BEGIN:VCALENDAR
VERSION:2.0
PRODID:-//imim.es//NONSGML kigkonsult.se iCalcreator 2.10//
X-WR-CALNAME:IMIM Calendar
X-WR-TIMEZONE:Europe/Madrid
BEGIN:VTIMEZONE
TZID:Europe/Madrid
LAST-MODIFIED:20251128T131244Z
END:VTIMEZONE
BEGIN:VEVENT
UID:20260420T212407CEST-4625Adj5O0@imim.es
DTSTAMP:20260420T190407Z
CATEGORIES:IMIM
CATEGORIES:SESSION
CLASS:PUBLIC
DESCRIPTION:En el marc del Projecte Salut i Ciència en col·laboració amb le
 s biblioteques de Barcelona\, us convidem el proper dia 27 de novembre a l
 a xerrada 'Cuidar el cor de la dona' a càrrec d&#39\;Helena Tizón\, cap de
  secció d&#39\;hemodinamica cardíaca a l&#39\;Hospital del Mar i coordinad
 ora del Pla Director de Malalties cardiovasculars de Catalunya\, investiga
 dora del Grup de recerca biomèdica en malalties del cor a l&#39\;Hospital 
 del Mar Research Institute i del CIBER de malalties cardiovasculars (CIBER
 -CV).
DTSTART:20251127T183000
DTEND:20251121T193000
LOCATION:Biblioteca Barceloneta - La Fraternitat
SUMMARY:Cuidar el cor de la dona
URL:http://researchmar.net/agenda/view.php?ID=1000
END:VEVENT
END:VCALENDAR
